BEGIN:VCALENDAR
VERSION:2.0
PRODID:icalendar-ruby
CALSCALE:GREGORIAN
METHOD:PUBLISH
BEGIN:VEVENT
DTSTAMP:20260426T005752Z
UID:5-2572270@fpcpc.org
DTSTART:20250525T153000Z
DTEND:20250525T163000Z
CLASS:PUBLIC
CREATED:20260425T195201
DESCRIPTION:Sunday Worship
LAST-MODIFIED:20260425T195201
LOCATION:
SUMMARY:Sunday Worship
URL;VALUE=URI:https://www.fpcpc.org/events/sunday-worship/2025-05-25
END:VEVENT
END:VCALENDAR
