BEGIN:VCALENDAR
VERSION:2.0
PRODID:icalendar-ruby
CALSCALE:GREGORIAN
METHOD:PUBLISH
BEGIN:VEVENT
DTSTAMP:20260425T230909Z
UID:5-2570267@fpcpc.org
DTSTART:20250518T153000Z
DTEND:20250518T163000Z
CLASS:PUBLIC
CREATED:20260425T170917
DESCRIPTION:Sunday Worship
LAST-MODIFIED:20260425T170917
LOCATION:
SUMMARY:Sunday Worship
URL;VALUE=URI:https://www.fpcpc.org/events/sunday-worship/2025-05-18
END:VEVENT
END:VCALENDAR
