BEGIN:VCALENDAR
VERSION:2.0
PRODID:icalendar-ruby
CALSCALE:GREGORIAN
METHOD:PUBLISH
BEGIN:VEVENT
DTSTAMP:20260425T214540Z
UID:5-2568264@fpcpc.org
DTSTART:20250511T153000Z
DTEND:20250511T163000Z
CLASS:PUBLIC
CREATED:20260425T142700
DESCRIPTION:Sunday Worship
LAST-MODIFIED:20260425T142700
LOCATION:
SUMMARY:Sunday Worship
URL;VALUE=URI:https://www.fpcpc.org/events/sunday-worship/2025-05-11
END:VEVENT
END:VCALENDAR
