BEGIN:VCALENDAR
VERSION:2.0
PRODID:icalendar-ruby
CALSCALE:GREGORIAN
METHOD:PUBLISH
BEGIN:VEVENT
DTSTAMP:20260425T182752Z
UID:5-2566260@fpcpc.org
DTSTART:20250427T153000Z
DTEND:20250427T163000Z
CLASS:PUBLIC
CREATED:20260425T114616
DESCRIPTION:Sunday Worship
LAST-MODIFIED:20260425T114616
LOCATION:
SUMMARY:Sunday Worship
URL;VALUE=URI:https://www.fpcpc.org/events/sunday-worship/2025-04-27
END:VEVENT
END:VCALENDAR
