BEGIN:VCALENDAR
VERSION:2.0
PRODID:icalendar-ruby
CALSCALE:GREGORIAN
METHOD:PUBLISH
BEGIN:VEVENT
DTSTAMP:20260425T165950Z
UID:5-2566259@fpcpc.org
DTSTART:20250420T153000Z
DTEND:20250420T163000Z
CLASS:PUBLIC
CREATED:20260425T114616
DESCRIPTION:Sunday Worship
LAST-MODIFIED:20260425T114616
LOCATION:
SUMMARY:Sunday Worship
URL;VALUE=URI:https://www.fpcpc.org/events/sunday-worship/2025-04-20
END:VEVENT
END:VCALENDAR
