BEGIN:VCALENDAR
VERSION:2.0
PRODID:icalendar-ruby
CALSCALE:GREGORIAN
METHOD:PUBLISH
BEGIN:VEVENT
DTSTAMP:20260425T025054Z
UID:5-2560244@fpcpc.org
DTSTART:20250216T163000Z
DTEND:20250216T173000Z
CLASS:PUBLIC
CREATED:20260424T203728
DESCRIPTION:Sunday Worship
LAST-MODIFIED:20260424T203728
LOCATION:
SUMMARY:Sunday Worship
URL;VALUE=URI:https://www.fpcpc.org/events/sunday-worship/2025-02-16
END:VEVENT
END:VCALENDAR
