BEGIN:VCALENDAR
VERSION:2.0
PRODID:icalendar-ruby
CALSCALE:GREGORIAN
METHOD:PUBLISH
BEGIN:VEVENT
DTSTAMP:20260425T012556Z
UID:5-2558241@fpcpc.org
DTSTART:20250209T163000Z
DTEND:20250209T173000Z
CLASS:PUBLIC
CREATED:20260424T174855
DESCRIPTION:Sunday Worship
LAST-MODIFIED:20260424T174855
LOCATION:
SUMMARY:Sunday Worship
URL;VALUE=URI:https://www.fpcpc.org/events/sunday-worship/2025-02-09
END:VEVENT
END:VCALENDAR
