BEGIN:VCALENDAR
VERSION:2.0
PRODID:icalendar-ruby
CALSCALE:GREGORIAN
METHOD:PUBLISH
BEGIN:VEVENT
DTSTAMP:20260424T235308Z
UID:5-2558240@fpcpc.org
DTSTART:20250202T163000Z
DTEND:20250202T173000Z
CLASS:PUBLIC
CREATED:20260424T174855
DESCRIPTION:Sunday Worship
LAST-MODIFIED:20260424T174855
LOCATION:
SUMMARY:Sunday Worship
URL;VALUE=URI:https://www.fpcpc.org/events/sunday-worship/2025-02-02
END:VEVENT
END:VCALENDAR
