BEGIN:VCALENDAR
VERSION:2.0
PRODID:icalendar-ruby
CALSCALE:GREGORIAN
METHOD:PUBLISH
BEGIN:VEVENT
DTSTAMP:20260424T221522Z
UID:5-2556237@fpcpc.org
DTSTART:20250126T163000Z
DTEND:20250126T173000Z
CLASS:PUBLIC
CREATED:20260424T150102
DESCRIPTION:Sunday Worship
LAST-MODIFIED:20260424T150102
LOCATION:
SUMMARY:Sunday Worship
URL;VALUE=URI:https://www.fpcpc.org/events/sunday-worship/2025-01-26
END:VEVENT
END:VCALENDAR
