BEGIN:VCALENDAR
VERSION:2.0
PRODID:icalendar-ruby
CALSCALE:GREGORIAN
METHOD:PUBLISH
BEGIN:VEVENT
DTSTAMP:20260424T175019Z
UID:5-2554232@fpcpc.org
DTSTART:20250105T163000Z
DTEND:20250105T173000Z
CLASS:PUBLIC
CREATED:20260424T121417
DESCRIPTION:Sunday Worship
LAST-MODIFIED:20260424T121417
LOCATION:
SUMMARY:Sunday Worship
URL;VALUE=URI:https://www.fpcpc.org/events/sunday-worship/2025-01-05
END:VEVENT
END:VCALENDAR
