BEGIN:VCALENDAR
VERSION:2.0
PRODID:icalendar-ruby
CALSCALE:GREGORIAN
METHOD:PUBLISH
BEGIN:VEVENT
DTSTAMP:20260424T145736Z
UID:5-2552228@fpcpc.org
DTSTART:20241222T163000Z
DTEND:20241222T173000Z
CLASS:PUBLIC
CREATED:20260424T092605
DESCRIPTION:Sunday Worship
LAST-MODIFIED:20260424T092605
LOCATION:
SUMMARY:Sunday Worship
URL;VALUE=URI:https://www.fpcpc.org/events/sunday-worship/2024-12-22
END:VEVENT
END:VCALENDAR
