BEGIN:VCALENDAR
VERSION:2.0
PRODID:icalendar-ruby
CALSCALE:GREGORIAN
METHOD:PUBLISH
BEGIN:VEVENT
DTSTAMP:20260424T100354Z
UID:5-2548221@fpcpc.org
DTSTART:20241201T163000Z
DTEND:20241201T173000Z
CLASS:PUBLIC
CREATED:20260423T210355
DESCRIPTION:Sunday Worship
LAST-MODIFIED:20260423T210355
LOCATION:
SUMMARY:Sunday Worship
URL;VALUE=URI:https://www.fpcpc.org/events/sunday-worship/2024-12-01
END:VEVENT
END:VCALENDAR
