BEGIN:VCALENDAR
VERSION:2.0
PRODID:icalendar-ruby
CALSCALE:GREGORIAN
METHOD:PUBLISH
BEGIN:VEVENT
DTSTAMP:20260424T025201Z
UID:5-2548216@fpcpc.org
DTSTART:20241027T153000Z
DTEND:20241027T163000Z
CLASS:PUBLIC
CREATED:20260423T210355
DESCRIPTION:Sunday Worship
LAST-MODIFIED:20260423T210355
LOCATION:
SUMMARY:Sunday Worship
URL;VALUE=URI:https://www.fpcpc.org/events/sunday-worship/2024-10-27
END:VEVENT
END:VCALENDAR
