BEGIN:VCALENDAR
VERSION:2.0
PRODID:icalendar-ruby
CALSCALE:GREGORIAN
METHOD:PUBLISH
BEGIN:VEVENT
DTSTAMP:20260424T011918Z
UID:5-2546214@fpcpc.org
DTSTART:20241020T153000Z
DTEND:20241020T163000Z
CLASS:PUBLIC
CREATED:20260423T181028
DESCRIPTION:Sunday Worship
LAST-MODIFIED:20260423T181028
LOCATION:
SUMMARY:Sunday Worship
URL;VALUE=URI:https://www.fpcpc.org/events/sunday-worship/2024-10-20
END:VEVENT
END:VCALENDAR
