BEGIN:VCALENDAR
VERSION:2.0
PRODID:icalendar-ruby
CALSCALE:GREGORIAN
METHOD:PUBLISH
BEGIN:VEVENT
DTSTAMP:20260424T000246Z
UID:5-2546213@fpcpc.org
DTSTART:20241013T153000Z
DTEND:20241013T163000Z
CLASS:PUBLIC
CREATED:20260423T181028
DESCRIPTION:Sunday Worship
LAST-MODIFIED:20260423T181028
LOCATION:
SUMMARY:Sunday Worship
URL;VALUE=URI:https://www.fpcpc.org/events/sunday-worship/2024-10-13
END:VEVENT
END:VCALENDAR
