BEGIN:VCALENDAR
VERSION:2.0
PRODID:icalendar-ruby
CALSCALE:GREGORIAN
METHOD:PUBLISH
BEGIN:VEVENT
DTSTAMP:20260423T224956Z
UID:5-2544211@fpcpc.org
DTSTART:20241006T153000Z
DTEND:20241006T163000Z
CLASS:PUBLIC
CREATED:20260423T151633
DESCRIPTION:Sunday Worship
LAST-MODIFIED:20260423T151633
LOCATION:
SUMMARY:Sunday Worship
URL;VALUE=URI:https://www.fpcpc.org/events/sunday-worship/2024-10-06
END:VEVENT
END:VCALENDAR
