BEGIN:VCALENDAR
VERSION:2.0
PRODID:icalendar-ruby
CALSCALE:GREGORIAN
METHOD:PUBLISH
BEGIN:VEVENT
DTSTAMP:20260423T173348Z
UID:5-2542206@fpcpc.org
DTSTART:20240908T153000Z
DTEND:20240908T163000Z
CLASS:PUBLIC
CREATED:20260423T122007
DESCRIPTION:Sunday Worship
LAST-MODIFIED:20260423T122007
LOCATION:
SUMMARY:Sunday Worship
URL;VALUE=URI:https://www.fpcpc.org/events/sunday-worship/2024-09-08
END:VEVENT
END:VCALENDAR
