BEGIN:VCALENDAR
VERSION:2.0
PRODID:icalendar-ruby
CALSCALE:GREGORIAN
METHOD:PUBLISH
BEGIN:VEVENT
DTSTAMP:20260423T162031Z
UID:5-2540205@fpcpc.org
DTSTART:20240901T153000Z
DTEND:20240901T163000Z
CLASS:PUBLIC
CREATED:20260423T092524
DESCRIPTION:Sunday Worship
LAST-MODIFIED:20260423T092524
LOCATION:
SUMMARY:Sunday Worship
URL;VALUE=URI:https://www.fpcpc.org/events/sunday-worship/2024-09-01
END:VEVENT
END:VCALENDAR
