BEGIN:VCALENDAR
VERSION:2.0
PRODID:icalendar-ruby
CALSCALE:GREGORIAN
METHOD:PUBLISH
BEGIN:VEVENT
DTSTAMP:20260423T122800Z
UID:5-2538202@fpcpc.org
DTSTART:20240811T153000Z
DTEND:20240811T163000Z
CLASS:PUBLIC
CREATED:20260423T063135
DESCRIPTION:Sunday Worship
LAST-MODIFIED:20260423T063135
LOCATION:
SUMMARY:Sunday Worship
URL;VALUE=URI:https://www.fpcpc.org/events/sunday-worship/2024-08-11
END:VEVENT
END:VCALENDAR
