BEGIN:VCALENDAR
VERSION:2.0
PRODID:icalendar-ruby
CALSCALE:GREGORIAN
METHOD:PUBLISH
BEGIN:VEVENT
DTSTAMP:20260423T093100Z
UID:5-2536200@fpcpc.org
DTSTART:20240728T153000Z
DTEND:20240728T163000Z
CLASS:PUBLIC
CREATED:20260422T210157
DESCRIPTION:Sunday Worship
LAST-MODIFIED:20260422T210157
LOCATION:
SUMMARY:Sunday Worship
URL;VALUE=URI:https://www.fpcpc.org/events/sunday-worship/2024-07-28
END:VEVENT
END:VCALENDAR
