BEGIN:VCALENDAR
VERSION:2.0
PRODID:icalendar-ruby
CALSCALE:GREGORIAN
METHOD:PUBLISH
BEGIN:VEVENT
DTSTAMP:20260422T233121Z
UID:5-2534195@fpcpc.org
DTSTART:20240609T153000Z
DTEND:20240609T163000Z
CLASS:PUBLIC
CREATED:20260422T180908
DESCRIPTION:Sunday Worship
LAST-MODIFIED:20260422T180908
LOCATION:
SUMMARY:Sunday Worship
URL;VALUE=URI:https://www.fpcpc.org/events/sunday-worship/2024-06-09
END:VEVENT
END:VCALENDAR
