BEGIN:VCALENDAR
VERSION:2.0
PRODID:icalendar-ruby
CALSCALE:GREGORIAN
METHOD:PUBLISH
BEGIN:VEVENT
DTSTAMP:20260422T204229Z
UID:5-2532196@fpcpc.org
DTSTART:20240526T153000Z
DTEND:20240526T163000Z
CLASS:PUBLIC
CREATED:20260422T151612
DESCRIPTION:Sunday Worship
LAST-MODIFIED:20260422T151612
LOCATION:
SUMMARY:Sunday Worship
URL;VALUE=URI:https://www.fpcpc.org/events/sunday-worship/2024-05-26
END:VEVENT
END:VCALENDAR
