BEGIN:VCALENDAR
VERSION:2.0
PRODID:icalendar-ruby
CALSCALE:GREGORIAN
METHOD:PUBLISH
BEGIN:VEVENT
DTSTAMP:20260422T192607Z
UID:5-2530195@fpcpc.org
DTSTART:20240519T153000Z
DTEND:20240519T163000Z
CLASS:PUBLIC
CREATED:20260422T122123
DESCRIPTION:Sunday Worship
LAST-MODIFIED:20260422T122123
LOCATION:
SUMMARY:Sunday Worship
URL;VALUE=URI:https://www.fpcpc.org/events/sunday-worship/2024-05-19
END:VEVENT
END:VCALENDAR
