BEGIN:VCALENDAR
VERSION:2.0
PRODID:icalendar-ruby
CALSCALE:GREGORIAN
METHOD:PUBLISH
BEGIN:VEVENT
DTSTAMP:20260422T153727Z
UID:5-2528195@fpcpc.org
DTSTART:20240428T153000Z
DTEND:20240428T163000Z
CLASS:PUBLIC
CREATED:20260422T092550
DESCRIPTION:Sunday Worship
LAST-MODIFIED:20260422T092550
LOCATION:
SUMMARY:Sunday Worship
URL;VALUE=URI:https://www.fpcpc.org/events/sunday-worship/2024-04-28
END:VEVENT
END:VCALENDAR
