BEGIN:VCALENDAR
VERSION:2.0
PRODID:icalendar-ruby
CALSCALE:GREGORIAN
METHOD:PUBLISH
BEGIN:VEVENT
DTSTAMP:20260422T122740Z
UID:5-2526197@fpcpc.org
DTSTART:20240414T153000Z
DTEND:20240414T163000Z
CLASS:PUBLIC
CREATED:20260422T063100
DESCRIPTION:Sunday Worship
LAST-MODIFIED:20260422T063100
LOCATION:
SUMMARY:Sunday Worship
URL;VALUE=URI:https://www.fpcpc.org/events/sunday-worship/2024-04-14
END:VEVENT
END:VCALENDAR
