BEGIN:VCALENDAR
VERSION:2.0
PRODID:icalendar-ruby
CALSCALE:GREGORIAN
METHOD:PUBLISH
BEGIN:VEVENT
DTSTAMP:20260422T063605Z
UID:5-2524197@fpcpc.org
DTSTART:20240317T153000Z
DTEND:20240317T163000Z
CLASS:PUBLIC
CREATED:20260421T192908
DESCRIPTION:Sunday Worship
LAST-MODIFIED:20260421T192908
LOCATION:
SUMMARY:Sunday Worship
URL;VALUE=URI:https://www.fpcpc.org/events/sunday-worship/2024-03-17
END:VEVENT
END:VCALENDAR
