BEGIN:VCALENDAR
VERSION:2.0
PRODID:icalendar-ruby
CALSCALE:GREGORIAN
METHOD:PUBLISH
BEGIN:VEVENT
DTSTAMP:20260422T014637Z
UID:5-2524194@fpcpc.org
DTSTART:20240225T163000Z
DTEND:20240225T173000Z
CLASS:PUBLIC
CREATED:20260421T192908
DESCRIPTION:Sunday Worship
LAST-MODIFIED:20260421T192908
LOCATION:
SUMMARY:Sunday Worship
URL;VALUE=URI:https://www.fpcpc.org/events/sunday-worship/2024-02-25
END:VEVENT
END:VCALENDAR
