BEGIN:VCALENDAR
VERSION:2.0
PRODID:icalendar-ruby
CALSCALE:GREGORIAN
METHOD:PUBLISH
BEGIN:VEVENT
DTSTAMP:20260421T225113Z
UID:5-2522198@fpcpc.org
DTSTART:20240211T163000Z
DTEND:20240211T173000Z
CLASS:PUBLIC
CREATED:20260421T165022
DESCRIPTION:Sunday Worship
LAST-MODIFIED:20260421T165022
LOCATION:
SUMMARY:Sunday Worship
URL;VALUE=URI:https://www.fpcpc.org/events/sunday-worship/2024-02-11
END:VEVENT
END:VCALENDAR
