BEGIN:VCALENDAR
VERSION:2.0
PRODID:icalendar-ruby
CALSCALE:GREGORIAN
METHOD:PUBLISH
BEGIN:VEVENT
DTSTAMP:20260421T211933Z
UID:5-2520203@fpcpc.org
DTSTART:20240204T163000Z
DTEND:20240204T173000Z
CLASS:PUBLIC
CREATED:20260421T141313
DESCRIPTION:Sunday Worship
LAST-MODIFIED:20260421T141313
LOCATION:
SUMMARY:Sunday Worship
URL;VALUE=URI:https://www.fpcpc.org/events/sunday-worship/2024-02-04
END:VEVENT
END:VCALENDAR
