BEGIN:VCALENDAR
VERSION:2.0
PRODID:icalendar-ruby
CALSCALE:GREGORIAN
METHOD:PUBLISH
BEGIN:VEVENT
DTSTAMP:20260421T183501Z
UID:5-2518207@fpcpc.org
DTSTART:20240121T163000Z
DTEND:20240121T173000Z
CLASS:PUBLIC
CREATED:20260421T113535
DESCRIPTION:Sunday Worship
LAST-MODIFIED:20260421T113535
LOCATION:
SUMMARY:Sunday Worship
URL;VALUE=URI:https://www.fpcpc.org/events/sunday-worship/2024-01-21
END:VEVENT
END:VCALENDAR
