BEGIN:VCALENDAR
VERSION:2.0
PRODID:icalendar-ruby
CALSCALE:GREGORIAN
METHOD:PUBLISH
BEGIN:VEVENT
DTSTAMP:20260421T154412Z
UID:5-2516211@fpcpc.org
DTSTART:20240107T163000Z
DTEND:20240107T173000Z
CLASS:PUBLIC
CREATED:20260421T085721
DESCRIPTION:Sunday Worship
LAST-MODIFIED:20260421T085721
LOCATION:
SUMMARY:Sunday Worship
URL;VALUE=URI:https://www.fpcpc.org/events/sunday-worship/2024-01-07
END:VEVENT
END:VCALENDAR
