BEGIN:VCALENDAR
VERSION:2.0
PRODID:icalendar-ruby
CALSCALE:GREGORIAN
METHOD:PUBLISH
BEGIN:VEVENT
DTSTAMP:20260421T142719Z
UID:5-2516210@fpcpc.org
DTSTART:20231231T163000Z
DTEND:20231231T173000Z
CLASS:PUBLIC
CREATED:20260421T085721
DESCRIPTION:Sunday Worship
LAST-MODIFIED:20260421T085721
LOCATION:
SUMMARY:Sunday Worship
URL;VALUE=URI:https://www.fpcpc.org/events/sunday-worship/2023-12-31
END:VEVENT
END:VCALENDAR
