BEGIN:VCALENDAR
VERSION:2.0
PRODID:icalendar-ruby
CALSCALE:GREGORIAN
METHOD:PUBLISH
BEGIN:VEVENT
DTSTAMP:20260421T125201Z
UID:5-2514215@fpcpc.org
DTSTART:20231224T163000Z
DTEND:20231224T173000Z
CLASS:PUBLIC
CREATED:20260421T062145
DESCRIPTION:Sunday Worship
LAST-MODIFIED:20260421T062145
LOCATION:
SUMMARY:Sunday Worship
URL;VALUE=URI:https://www.fpcpc.org/events/sunday-worship/2023-12-24
END:VEVENT
END:VCALENDAR
